BEGIN:VCALENDAR
VERSION:2.0
PRODID:-//Town of LaFayette, Walworth County, WI - ECPv6.15.17.1//NONSGML v1.0//EN
CALSCALE:GREGORIAN
METHOD:PUBLISH
X-WR-CALNAME:Town of LaFayette, Walworth County, WI
X-ORIGINAL-URL:https://lafayettewcwi.gov
X-WR-CALDESC:Events for Town of LaFayette, Walworth County, WI
REFRESH-INTERVAL;VALUE=DURATION:PT1H
X-Robots-Tag:noindex
X-PUBLISHED-TTL:PT1H
BEGIN:VTIMEZONE
TZID:America/Chicago
BEGIN:DAYLIGHT
TZOFFSETFROM:-0600
TZOFFSETTO:-0500
TZNAME:CDT
DTSTART:20240310T080000
END:DAYLIGHT
BEGIN:STANDARD
TZOFFSETFROM:-0500
TZOFFSETTO:-0600
TZNAME:CST
DTSTART:20241103T070000
END:STANDARD
BEGIN:DAYLIGHT
TZOFFSETFROM:-0600
TZOFFSETTO:-0500
TZNAME:CDT
DTSTART:20250309T080000
END:DAYLIGHT
BEGIN:STANDARD
TZOFFSETFROM:-0500
TZOFFSETTO:-0600
TZNAME:CST
DTSTART:20251102T070000
END:STANDARD
BEGIN:DAYLIGHT
TZOFFSETFROM:-0600
TZOFFSETTO:-0500
TZNAME:CDT
DTSTART:20260308T080000
END:DAYLIGHT
BEGIN:STANDARD
TZOFFSETFROM:-0500
TZOFFSETTO:-0600
TZNAME:CST
DTSTART:20261101T070000
END:STANDARD
END:VTIMEZONE
BEGIN:VEVENT
DTSTART;TZID=America/Chicago:20250611T040000
DTEND;TZID=America/Chicago:20250611T180000
DTSTAMP:20260420T134030
CREATED:20250227T154302Z
LAST-MODIFIED:20250227T154302Z
UID:2137-1749614400-1749664800@lafayettewcwi.gov
SUMMARY:Board of Review Meeting
DESCRIPTION:
URL:https://lafayettewcwi.gov/event/board-of-review-meeting-2/
END:VEVENT
BEGIN:VEVENT
DTSTART;TZID=America/Chicago:20250611T180000
DTEND;TZID=America/Chicago:20250611T180000
DTSTAMP:20260420T134030
CREATED:20250529T183855Z
LAST-MODIFIED:20250529T183855Z
UID:2300-1749664800-1749664800@lafayettewcwi.gov
SUMMARY:Town Board Meeting
DESCRIPTION:
URL:https://lafayettewcwi.gov/event/town-board-meeting-21/
END:VEVENT
BEGIN:VEVENT
DTSTART;TZID=America/Chicago:20250617T163000
DTEND;TZID=America/Chicago:20250617T163000
DTSTAMP:20260420T134030
CREATED:20250612T141954Z
LAST-MODIFIED:20250612T141954Z
UID:2305-1750177800-1750177800@lafayettewcwi.gov
SUMMARY:Board of Review Meeting
DESCRIPTION:
URL:https://lafayettewcwi.gov/event/board-of-review-meeting-3/
END:VEVENT
BEGIN:VEVENT
DTSTART;TZID=America/Chicago:20250620T153000
DTEND;TZID=America/Chicago:20250620T173000
DTSTAMP:20260420T134030
CREATED:20250506T173054Z
LAST-MODIFIED:20250506T173054Z
UID:2250-1750433400-1750440600@lafayettewcwi.gov
SUMMARY:Walworth County Clean Sweep
DESCRIPTION:
URL:https://lafayettewcwi.gov/event/walworth-county-clean-sweep/
CATEGORIES:Town Board
ATTACH;FMTTYPE=image/jpeg:https://lafayettewcwi.gov/wp-content/uploads/2025/05/Clean-Sweep-Residential-June.jpg
END:VEVENT
BEGIN:VEVENT
DTSTART;TZID=America/Chicago:20250621T080000
DTEND;TZID=America/Chicago:20250621T120000
DTSTAMP:20260420T134030
CREATED:20250506T173149Z
LAST-MODIFIED:20250506T173149Z
UID:2251-1750492800-1750507200@lafayettewcwi.gov
SUMMARY:Walworth County Clean Sweep
DESCRIPTION:
URL:https://lafayettewcwi.gov/event/walworth-county-clean-sweep-2/
CATEGORIES:Town Board
END:VEVENT
END:VCALENDAR