BEGIN:VCALENDAR
VERSION:2.0
PRODID:-//Town of LaFayette, Walworth County, WI - ECPv6.15.17.1//NONSGML v1.0//EN
CALSCALE:GREGORIAN
METHOD:PUBLISH
X-WR-CALNAME:Town of LaFayette, Walworth County, WI
X-ORIGINAL-URL:https://lafayettewcwi.gov
X-WR-CALDESC:Events for Town of LaFayette, Walworth County, WI
REFRESH-INTERVAL;VALUE=DURATION:PT1H
X-Robots-Tag:noindex
X-PUBLISHED-TTL:PT1H
BEGIN:VTIMEZONE
TZID:America/Chicago
BEGIN:DAYLIGHT
TZOFFSETFROM:-0600
TZOFFSETTO:-0500
TZNAME:CDT
DTSTART:20220313T080000
END:DAYLIGHT
BEGIN:STANDARD
TZOFFSETFROM:-0500
TZOFFSETTO:-0600
TZNAME:CST
DTSTART:20221106T070000
END:STANDARD
BEGIN:DAYLIGHT
TZOFFSETFROM:-0600
TZOFFSETTO:-0500
TZNAME:CDT
DTSTART:20230312T080000
END:DAYLIGHT
BEGIN:STANDARD
TZOFFSETFROM:-0500
TZOFFSETTO:-0600
TZNAME:CST
DTSTART:20231105T070000
END:STANDARD
BEGIN:DAYLIGHT
TZOFFSETFROM:-0600
TZOFFSETTO:-0500
TZNAME:CDT
DTSTART:20240310T080000
END:DAYLIGHT
BEGIN:STANDARD
TZOFFSETFROM:-0500
TZOFFSETTO:-0600
TZNAME:CST
DTSTART:20241103T070000
END:STANDARD
END:VTIMEZONE
BEGIN:VEVENT
DTSTART;TZID=America/Chicago:20230419T184500
DTEND;TZID=America/Chicago:20230419T184500
DTSTAMP:20260421T045201
CREATED:20230417T191826Z
LAST-MODIFIED:20230417T191826Z
UID:903-1681929900-1681929900@lafayettewcwi.gov
SUMMARY:Annual Meeting of Electors
DESCRIPTION:Annual Meeting
URL:https://lafayettewcwi.gov/event/annual-meeting-of-electors-2/
END:VEVENT
BEGIN:VEVENT
DTSTART;TZID=America/Chicago:20230404T070000
DTEND;TZID=America/Chicago:20230404T200000
DTSTAMP:20260421T045201
CREATED:20230324T172632Z
LAST-MODIFIED:20230324T172632Z
UID:749-1680591600-1680638400@lafayettewcwi.gov
SUMMARY:Spring Election
DESCRIPTION:The Spring Election will take place at LaFayette Town Hall\, located at W4614 Potter Road\, Elkhorn from 7 a.m. to 8 p.m.  Remember to bring your Photo ID! \nTo see what is on your ballot\, or request an absentee ballot be mailed to you\, go to myvote.wi.gov \n  \n 
URL:https://lafayettewcwi.gov/event/spring-election/
CATEGORIES:Town Board
ATTACH;FMTTYPE=image/jpeg:https://lafayettewcwi.gov/wp-content/uploads/2023/03/election-day-FB-cover.jpg
END:VEVENT
BEGIN:VEVENT
DTSTART;TZID=America/Chicago:20230329T170000
DTEND;TZID=America/Chicago:20230329T170000
DTSTAMP:20260421T045201
CREATED:20230324T163521Z
LAST-MODIFIED:20230324T163521Z
UID:737-1680109200-1680109200@lafayettewcwi.gov
SUMMARY:Town Board-Special
DESCRIPTION:
URL:https://lafayettewcwi.gov/event/town-board-special-2/
END:VEVENT
BEGIN:VEVENT
DTSTART;TZID=America/Chicago:20230320T163000
DTEND;TZID=America/Chicago:20230320T163000
DTSTAMP:20260421T045201
CREATED:20230324T163429Z
LAST-MODIFIED:20230324T163429Z
UID:734-1679329800-1679329800@lafayettewcwi.gov
SUMMARY:Town Board-Special
DESCRIPTION:
URL:https://lafayettewcwi.gov/event/town-board-special/
END:VEVENT
BEGIN:VEVENT
DTSTART;TZID=America/Chicago:20230315T180000
DTEND;TZID=America/Chicago:20230315T180000
DTSTAMP:20260421T045201
CREATED:20230324T163317Z
LAST-MODIFIED:20230324T163317Z
UID:731-1678903200-1678903200@lafayettewcwi.gov
SUMMARY:Town Board
DESCRIPTION:
URL:https://lafayettewcwi.gov/event/town-board-2/
END:VEVENT
BEGIN:VEVENT
DTSTART;TZID=America/Chicago:20230215T180000
DTEND;TZID=America/Chicago:20230215T180000
DTSTAMP:20260421T045201
CREATED:20230324T162645Z
LAST-MODIFIED:20230324T162645Z
UID:727-1676484000-1676484000@lafayettewcwi.gov
SUMMARY:Town Board
DESCRIPTION:
URL:https://lafayettewcwi.gov/event/town-board/
END:VEVENT
END:VCALENDAR