BEGIN:VCALENDAR
VERSION:2.0
PRODID:-//Town of LaFayette, Walworth County, WI - ECPv6.15.17.1//NONSGML v1.0//EN
CALSCALE:GREGORIAN
METHOD:PUBLISH
X-WR-CALNAME:Town of LaFayette, Walworth County, WI
X-ORIGINAL-URL:https://lafayettewcwi.gov
X-WR-CALDESC:Events for Town of LaFayette, Walworth County, WI
REFRESH-INTERVAL;VALUE=DURATION:PT1H
X-Robots-Tag:noindex
X-PUBLISHED-TTL:PT1H
BEGIN:VTIMEZONE
TZID:America/Chicago
BEGIN:DAYLIGHT
TZOFFSETFROM:-0600
TZOFFSETTO:-0500
TZNAME:CDT
DTSTART:20230312T080000
END:DAYLIGHT
BEGIN:STANDARD
TZOFFSETFROM:-0500
TZOFFSETTO:-0600
TZNAME:CST
DTSTART:20231105T070000
END:STANDARD
BEGIN:DAYLIGHT
TZOFFSETFROM:-0600
TZOFFSETTO:-0500
TZNAME:CDT
DTSTART:20240310T080000
END:DAYLIGHT
BEGIN:STANDARD
TZOFFSETFROM:-0500
TZOFFSETTO:-0600
TZNAME:CST
DTSTART:20241103T070000
END:STANDARD
BEGIN:DAYLIGHT
TZOFFSETFROM:-0600
TZOFFSETTO:-0500
TZNAME:CDT
DTSTART:20250309T080000
END:DAYLIGHT
BEGIN:STANDARD
TZOFFSETFROM:-0500
TZOFFSETTO:-0600
TZNAME:CST
DTSTART:20251102T070000
END:STANDARD
END:VTIMEZONE
BEGIN:VEVENT
DTSTART;TZID=America/Chicago:20241125T150000
DTEND;TZID=America/Chicago:20241125T160000
DTSTAMP:20260420T115611
CREATED:20241119T204039Z
LAST-MODIFIED:20241119T204039Z
UID:1997-1732546800-1732550400@lafayettewcwi.gov
SUMMARY:Safe Haven Baby Box Event
DESCRIPTION:On Monday\, November 25th at 3 p.m. the Elkhorn Area Fire Department and many generous donors will be host a program for the activation of a Safe Haven Baby Box at the Elkhorn Area Fire Department\, 13 S. Board St.  For more information about this event\, please go to: \nELKHORN SAFE HAVEN BABY BOX
URL:https://lafayettewcwi.gov/event/safe-haven-baby-box-event/
CATEGORIES:Town Board
ATTACH;FMTTYPE=image/jpeg:https://lafayettewcwi.gov/wp-content/uploads/2024/11/Safe-Haven.jpg
END:VEVENT
END:VCALENDAR