BEGIN:VCALENDAR
VERSION:2.0
PRODID:-//Town of LaFayette, Walworth County, WI - ECPv6.15.17.1//NONSGML v1.0//EN
CALSCALE:GREGORIAN
METHOD:PUBLISH
X-WR-CALNAME:Town of LaFayette, Walworth County, WI
X-ORIGINAL-URL:https://lafayettewcwi.gov
X-WR-CALDESC:Events for Town of LaFayette, Walworth County, WI
REFRESH-INTERVAL;VALUE=DURATION:PT1H
X-Robots-Tag:noindex
X-PUBLISHED-TTL:PT1H
BEGIN:VTIMEZONE
TZID:America/Chicago
BEGIN:DAYLIGHT
TZOFFSETFROM:-0600
TZOFFSETTO:-0500
TZNAME:CDT
DTSTART:20240310T080000
END:DAYLIGHT
BEGIN:STANDARD
TZOFFSETFROM:-0500
TZOFFSETTO:-0600
TZNAME:CST
DTSTART:20241103T070000
END:STANDARD
BEGIN:DAYLIGHT
TZOFFSETFROM:-0600
TZOFFSETTO:-0500
TZNAME:CDT
DTSTART:20250309T080000
END:DAYLIGHT
BEGIN:STANDARD
TZOFFSETFROM:-0500
TZOFFSETTO:-0600
TZNAME:CST
DTSTART:20251102T070000
END:STANDARD
BEGIN:DAYLIGHT
TZOFFSETFROM:-0600
TZOFFSETTO:-0500
TZNAME:CDT
DTSTART:20260308T080000
END:DAYLIGHT
BEGIN:STANDARD
TZOFFSETFROM:-0500
TZOFFSETTO:-0600
TZNAME:CST
DTSTART:20261101T070000
END:STANDARD
END:VTIMEZONE
BEGIN:VEVENT
DTSTART;TZID=America/Chicago:20251201T100000
DTEND;TZID=America/Chicago:20251201T150000
DTSTAMP:20260420T053650
CREATED:20251201T162650Z
LAST-MODIFIED:20251201T162650Z
UID:2497-1764583200-1764601200@lafayettewcwi.gov
SUMMARY:In-Person Tax Payment Collection Dates
DESCRIPTION:At Town Hall\, N5573 Bowers Road*Weather permitting\, for adverse weather\, call ahead or check the Town’s website for changes* \nTo pay in-person\, please remember to: \n\nBring your tax bill to accurately apply your payment\nMake a check or money order out to the TOWN OF LAFAYETTE\nIf your bank check is made out to the town and the property owner(s)\, the property owner(s) also need to endorse the check\n\nIn-person collection dates: \n\nWednesday\, December 17\, 10am to 3pm\nMonday\, December 22\, 9am to 1pm\nMonday\, January 26\, 10am to 3pm\nOther times by appointment—contact the Clerk to set-up a time\n\n 
URL:https://lafayettewcwi.gov/event/in-person-tax-payment-collection-dates/
CATEGORIES:Town Board
END:VEVENT
END:VCALENDAR